BEGIN:VCALENDAR
VERSION:2.0
PRODID:http://kfd-aachen.de
BEGIN:VEVENT
UID:aa655239-d459-11f0-b008-0242ac11002b-1776877200000-de
DTSTAMP:20251208T171642Z
DTSTART:20260422T170000Z
DTEND:20260422T183000Z
SUMMARY;LANGUAGE=de:abgesagt: kfd-AustauschBar „Ein offenes Ohr für pflegende Angehörige“
DESCRIPTION;LANGUAGE=de:Wir laden Pflegende\, aktive und ehemalige\, Nachbarn und Freundinnen ein\, sich miteinander über ihre Erfahrungen auszutauschen.
LOCATION;LANGUAGE=de:ONLINE via Zoom\,
IMAGE;VALUE=URI;DISPLAY=BADGE;FMTTYPE=image/jpeg:http://kfd-aachen.de/export/sites/verbaende/kfd-aachen/.galleries/bilder/Pflegende-Angehoerige-AustauschBar_dulcey-lima-9MTqeBaAOlU-unsplash.jpg
END:VEVENT
END:VCALENDAR
